BEGIN:VCALENDAR
PRODID:-//Coffey Communications/SiteAssist/Calendar//EN
VERSION:2.0
METHOD:REQUEST
BEGIN:VEVENT
DTSTART:20260522T150000Z
DTEND:20260522T170000Z
DTSTAMP:20260420T123123Z
UID:B603DFA2915D48F692E4619314910C18@www.universityhealthkc.org
CREATED:20260420T123123Z
X-ALT-DESC;FMTTYPE=text/html:<p><strong>This is our EXPRESS class specifically designed to help you prepare for a CESAREAN birth</strong>.</p>
<p>The class will cover the following:</p>
<ul>
<li><strong>Pregnancy </strong>- Topics include: anatomy, warning signs, signs of labor, and preterm labor.</li>
<li><strong>Cesarean </strong>– Reasons for cesareans, scheduling, preparation for surgery, the day of surgery, and recovery in the hospital.</li>
<li><strong>Newborn and Postpartum </strong>– Initial newborn care, safe sleep practices, self-care after surgery, and perinatal mood disorders.</li>
</ul>
<p>This class is offered in a purely VIRTUAL format for your convenience. Class will be cancelled if no one is registered. Please pre-register at least 24 hours in advance of class time. Questions can be directed to Kristy Flores, RN at <a href="mailto:ChildbirthClasses@uhkc.org"><strong>ChildbirthClasses@uhkc.org</strong></a> or <strong><a href="tel:+1(816)4048008">(816) 404-8008</a></strong>.</p>
LAST-MODIFIED:20260420T123123Z
LOCATION:Virtual (Zoom)
SEQUENCE:0
STATUS:CONFIRMED
SUMMARY:Cesarean Birth Express (VIRTUAL)
TRANSP:OPAQUE
BEGIN:VALARM
TRIGGER:-PT60M
DURATION:PT1M
ACTION:DISPLAY
DESCRIPTION:Cesarean Birth Express (VIRTUAL)
END:VALARM
END:VEVENT
END:VCALENDAR
